BEGIN:VCALENDAR
VERSION:2.0
PRODID:-//StarView Vineyards - ECPv6.15.20//NONSGML v1.0//EN
CALSCALE:GREGORIAN
METHOD:PUBLISH
X-WR-CALNAME:StarView Vineyards
X-ORIGINAL-URL:https://starviewvineyards.com
X-WR-CALDESC:Events for StarView Vineyards
REFRESH-INTERVAL;VALUE=DURATION:PT1H
X-Robots-Tag:noindex
X-PUBLISHED-TTL:PT1H
BEGIN:VTIMEZONE
TZID:America/Chicago
BEGIN:DAYLIGHT
TZOFFSETFROM:-0600
TZOFFSETTO:-0500
TZNAME:CDT
DTSTART:20250309T080000
END:DAYLIGHT
BEGIN:STANDARD
TZOFFSETFROM:-0500
TZOFFSETTO:-0600
TZNAME:CST
DTSTART:20251102T070000
END:STANDARD
BEGIN:DAYLIGHT
TZOFFSETFROM:-0600
TZOFFSETTO:-0500
TZNAME:CDT
DTSTART:20260308T080000
END:DAYLIGHT
BEGIN:STANDARD
TZOFFSETFROM:-0500
TZOFFSETTO:-0600
TZNAME:CST
DTSTART:20261101T070000
END:STANDARD
BEGIN:DAYLIGHT
TZOFFSETFROM:-0600
TZOFFSETTO:-0500
TZNAME:CDT
DTSTART:20270314T080000
END:DAYLIGHT
BEGIN:STANDARD
TZOFFSETFROM:-0500
TZOFFSETTO:-0600
TZNAME:CST
DTSTART:20271107T070000
END:STANDARD
END:VTIMEZONE
BEGIN:VEVENT
DTSTART;TZID=America/Chicago:20261030T180000
DTEND;TZID=America/Chicago:20261030T210000
DTSTAMP:20260421T041255
CREATED:20251021T200604Z
LAST-MODIFIED:20260318T183634Z
UID:307980-1793383200-1793394000@starviewvineyards.com
SUMMARY:HalloWine
DESCRIPTION:Join us for one of our favorite parties of the year!\nFriday 10.30.26 6-9pm$10 admission includes live music\, chili & nacho bar\, souvenir wine glass & a costume contest with prizes.\nCome dressed to impress and enter the contest for best individual\, couple or group costume! Contest starts at 8pm!\nTables reservations accepted. Call 618-893-9463.\nAdmission is $10 cash at the door on the 30th!!
URL:https://starviewvineyards.com/event/hallowine-2/
LOCATION:StarView Vineyards\, 5100 Wing Hill Road\, Cobden\, IL\, 62920\, United States
CATEGORIES:Party
END:VEVENT
END:VCALENDAR