BEGIN:VCALENDAR
VERSION:2.0
PRODID:-//StarView Vineyards - ECPv6.15.20//NONSGML v1.0//EN
CALSCALE:GREGORIAN
METHOD:PUBLISH
X-ORIGINAL-URL:https://starviewvineyards.com
X-WR-CALDESC:Events for StarView Vineyards
REFRESH-INTERVAL;VALUE=DURATION:PT1H
X-Robots-Tag:noindex
X-PUBLISHED-TTL:PT1H
BEGIN:VTIMEZONE
TZID:America/Chicago
BEGIN:DAYLIGHT
TZOFFSETFROM:-0600
TZOFFSETTO:-0500
TZNAME:CDT
DTSTART:20240310T080000
END:DAYLIGHT
BEGIN:STANDARD
TZOFFSETFROM:-0500
TZOFFSETTO:-0600
TZNAME:CST
DTSTART:20241103T070000
END:STANDARD
BEGIN:DAYLIGHT
TZOFFSETFROM:-0600
TZOFFSETTO:-0500
TZNAME:CDT
DTSTART:20250309T080000
END:DAYLIGHT
BEGIN:STANDARD
TZOFFSETFROM:-0500
TZOFFSETTO:-0600
TZNAME:CST
DTSTART:20251102T070000
END:STANDARD
BEGIN:DAYLIGHT
TZOFFSETFROM:-0600
TZOFFSETTO:-0500
TZNAME:CDT
DTSTART:20260308T080000
END:DAYLIGHT
BEGIN:STANDARD
TZOFFSETFROM:-0500
TZOFFSETTO:-0600
TZNAME:CST
DTSTART:20261101T070000
END:STANDARD
END:VTIMEZONE
BEGIN:VEVENT
DTSTART;TZID=America/Chicago:20250608T130000
DTEND;TZID=America/Chicago:20250608T150000
DTSTAMP:20260423T044628
CREATED:20250319T190630Z
LAST-MODIFIED:20250508T203611Z
UID:307641-1749387600-1749394800@starviewvineyards.com
SUMMARY:Summer Fun Cookie Decorating Class
DESCRIPTION:Join us for a super fun and informative afternoon of cookie decorating with Teresa’s Sweet Treats! Cost: $45.00 per person. All materials included. Each participant will receive a box of 9-12 cookies (depending on size) to decorate\, at least 3 colors of icing\, a two hour class of guidance\, instruction and demonstrations to teach you different icing techniques\, how to properly flood cookies\, answer questions\, and discuss icing consistencies. No experience needed. Final Sale. No Refunds. Class is suitable for ages 8+. Registration closes at midnight on May 30. To register and purchase tickets click here: https://square.link/u/ICUsfUKy?src=sheet
URL:https://starviewvineyards.com/event/summer-fun-cookie-decorating-class/
LOCATION:StarView Vineyards\, 5100 Wing Hill Road\, Cobden\, IL\, 62920\, United States
CATEGORIES:Art
ATTACH;FMTTYPE=image/jpeg:https://starviewvineyards.com/wp-content/uploads/2025/03/SummerCookies.jpg
END:VEVENT
BEGIN:VEVENT
DTSTART;TZID=America/Chicago:20250621T120000
DTEND;TZID=America/Chicago:20250621T170000
DTSTAMP:20260423T044628
CREATED:20250618T195547Z
LAST-MODIFIED:20250618T195547Z
UID:307796-1750507200-1750525200@starviewvineyards.com
SUMMARY:Marcy Bialeschki Book Signing/Meet & Greet
DESCRIPTION:Come meet local author Marcy Bialeschki! She’ll be selling and signing her books\, including limited First Editions. She also brings fun merchandise. Come by and meet her and enjoy a glass of wine\, too!
URL:https://starviewvineyards.com/event/marcy-bialeschki-book-signing-meet-greet/
LOCATION:StarView Vineyards\, 5100 Wing Hill Road\, Cobden\, IL\, 62920\, United States
CATEGORIES:Art
END:VEVENT
BEGIN:VEVENT
DTSTART;TZID=America/Chicago:20250622T120000
DTEND;TZID=America/Chicago:20250622T150000
DTSTAMP:20260423T044628
CREATED:20250423T173919Z
LAST-MODIFIED:20250508T204246Z
UID:307716-1750593600-1750604400@starviewvineyards.com
SUMMARY:Interchangeable Paint Party
DESCRIPTION:This adorable interchangeable project has been a HUGE hit & the only thing that can make it any better….pairing it with wine!\nThis project is 9×7 inches which makes it perfect for a desk\, shelf\, or a mantle. You even get to choose which interchangeable pieces you’d like.\nYou will be able to customize your project by picking your own paint/stain combinations to make your project a one-of-a-kind piece at the event.\nREGISTRATION CLOSES AT MIDNIGHT ON 6/8/2025 or when spots are filled.\n**Visit the Facebook event for additional photos**\n\nSecure your spot today!
URL:https://starviewvineyards.com/event/interchangeable-paint-party/
LOCATION:StarView Vineyards\, 5100 Wing Hill Road\, Cobden\, IL\, 62920\, United States
CATEGORIES:Art
ATTACH;FMTTYPE=image/jpeg:https://starviewvineyards.com/wp-content/uploads/2025/04/CG.jpg
END:VEVENT
END:VCALENDAR