BEGIN:VCALENDAR
VERSION:2.0
PRODID:-//StarView Vineyards - ECPv6.15.20//NONSGML v1.0//EN
CALSCALE:GREGORIAN
METHOD:PUBLISH
X-WR-CALNAME:StarView Vineyards
X-ORIGINAL-URL:https://starviewvineyards.com
X-WR-CALDESC:Events for StarView Vineyards
REFRESH-INTERVAL;VALUE=DURATION:PT1H
X-Robots-Tag:noindex
X-PUBLISHED-TTL:PT1H
BEGIN:VTIMEZONE
TZID:America/Chicago
BEGIN:DAYLIGHT
TZOFFSETFROM:-0600
TZOFFSETTO:-0500
TZNAME:CDT
DTSTART:20240310T080000
END:DAYLIGHT
BEGIN:STANDARD
TZOFFSETFROM:-0500
TZOFFSETTO:-0600
TZNAME:CST
DTSTART:20241103T070000
END:STANDARD
BEGIN:DAYLIGHT
TZOFFSETFROM:-0600
TZOFFSETTO:-0500
TZNAME:CDT
DTSTART:20250309T080000
END:DAYLIGHT
BEGIN:STANDARD
TZOFFSETFROM:-0500
TZOFFSETTO:-0600
TZNAME:CST
DTSTART:20251102T070000
END:STANDARD
BEGIN:DAYLIGHT
TZOFFSETFROM:-0600
TZOFFSETTO:-0500
TZNAME:CDT
DTSTART:20260308T080000
END:DAYLIGHT
BEGIN:STANDARD
TZOFFSETFROM:-0500
TZOFFSETTO:-0600
TZNAME:CST
DTSTART:20261101T070000
END:STANDARD
END:VTIMEZONE
BEGIN:VEVENT
DTSTART;TZID=America/Chicago:20250323T130000
DTEND;TZID=America/Chicago:20250323T150000
DTSTAMP:20260423T150810
CREATED:20250212T232329Z
LAST-MODIFIED:20250212T232329Z
UID:307624-1742734800-1742742000@starviewvineyards.com
SUMMARY:Staghorn Fern Wall-Mounting Class
DESCRIPTION:Join Glass Gardens by Stacey for a Staghorn Fern Wall-Mounting Class! \n\n\n On March 23rd from 1-3 pm\, come and create your own stunning wall-mounted plant art! \n\n\n Learn the art of mounting staghorn ferns on a wall and take home your breathtaking living masterpiece! \n\n\n We’ll provide all the materials\, expertise\, and enthusiasm – you bring your creativity and excitement! \n\n\n Tickets are just $45 plus tax. Secure your spot now and get ready for a memorable afternoon of wine\, plants\, and making memories!
URL:https://starviewvineyards.com/event/staghorn-fern-wall-mounting-class/
LOCATION:StarView Vineyards\, 5100 Wing Hill Road\, Cobden\, IL\, 62920\, United States
CATEGORIES:Art
END:VEVENT
END:VCALENDAR