BEGIN:VCALENDAR
VERSION:2.0
PRODID:-//StarView Vineyards - ECPv6.15.20//NONSGML v1.0//EN
CALSCALE:GREGORIAN
METHOD:PUBLISH
X-ORIGINAL-URL:https://starviewvineyards.com
X-WR-CALDESC:Events for StarView Vineyards
REFRESH-INTERVAL;VALUE=DURATION:PT1H
X-Robots-Tag:noindex
X-PUBLISHED-TTL:PT1H
BEGIN:VTIMEZONE
TZID:America/Chicago
BEGIN:DAYLIGHT
TZOFFSETFROM:-0600
TZOFFSETTO:-0500
TZNAME:CDT
DTSTART:20240310T080000
END:DAYLIGHT
BEGIN:STANDARD
TZOFFSETFROM:-0500
TZOFFSETTO:-0600
TZNAME:CST
DTSTART:20241103T070000
END:STANDARD
BEGIN:DAYLIGHT
TZOFFSETFROM:-0600
TZOFFSETTO:-0500
TZNAME:CDT
DTSTART:20250309T080000
END:DAYLIGHT
BEGIN:STANDARD
TZOFFSETFROM:-0500
TZOFFSETTO:-0600
TZNAME:CST
DTSTART:20251102T070000
END:STANDARD
BEGIN:DAYLIGHT
TZOFFSETFROM:-0600
TZOFFSETTO:-0500
TZNAME:CDT
DTSTART:20260308T080000
END:DAYLIGHT
BEGIN:STANDARD
TZOFFSETFROM:-0500
TZOFFSETTO:-0600
TZNAME:CST
DTSTART:20261101T070000
END:STANDARD
END:VTIMEZONE
BEGIN:VEVENT
DTSTART;TZID=America/Chicago:20250926T180000
DTEND;TZID=America/Chicago:20250926T210000
DTSTAMP:20260421T052829
CREATED:20250709T203401Z
LAST-MODIFIED:20250709T203401Z
UID:307829-1758909600-1758920400@starviewvineyards.com
SUMMARY:Stargazing & Wine
DESCRIPTION:The Astronomical Association of Southern Illinois and StarView are teaming up to take a look at the late summer sky. The telescopes will be ready for some glimpses of Saturn\, Mars and possibly Neptune. We will also be able to view some constellations. Join us for some wine and a view of our night sky!
URL:https://starviewvineyards.com/event/stargazing-wine/
LOCATION:StarView Vineyards\, 5100 Wing Hill Road\, Cobden\, IL\, 62920\, United States
CATEGORIES:Art
END:VEVENT
END:VCALENDAR