BEGIN:VCALENDAR
VERSION:2.0
PRODID:-//StarView Vineyards - ECPv6.15.20//NONSGML v1.0//EN
CALSCALE:GREGORIAN
METHOD:PUBLISH
X-WR-CALNAME:StarView Vineyards
X-ORIGINAL-URL:https://starviewvineyards.com
X-WR-CALDESC:Events for StarView Vineyards
REFRESH-INTERVAL;VALUE=DURATION:PT1H
X-Robots-Tag:noindex
X-PUBLISHED-TTL:PT1H
BEGIN:VTIMEZONE
TZID:America/Chicago
BEGIN:DAYLIGHT
TZOFFSETFROM:-0600
TZOFFSETTO:-0500
TZNAME:CDT
DTSTART:20240310T080000
END:DAYLIGHT
BEGIN:STANDARD
TZOFFSETFROM:-0500
TZOFFSETTO:-0600
TZNAME:CST
DTSTART:20241103T070000
END:STANDARD
BEGIN:DAYLIGHT
TZOFFSETFROM:-0600
TZOFFSETTO:-0500
TZNAME:CDT
DTSTART:20250309T080000
END:DAYLIGHT
BEGIN:STANDARD
TZOFFSETFROM:-0500
TZOFFSETTO:-0600
TZNAME:CST
DTSTART:20251102T070000
END:STANDARD
BEGIN:DAYLIGHT
TZOFFSETFROM:-0600
TZOFFSETTO:-0500
TZNAME:CDT
DTSTART:20260308T080000
END:DAYLIGHT
BEGIN:STANDARD
TZOFFSETFROM:-0500
TZOFFSETTO:-0600
TZNAME:CST
DTSTART:20261101T070000
END:STANDARD
END:VTIMEZONE
BEGIN:VEVENT
DTSTART;TZID=America/Chicago:20250928T120000
DTEND;TZID=America/Chicago:20250928T150000
DTSTAMP:20260421T031235
CREATED:20250825T191911Z
LAST-MODIFIED:20250917T152505Z
UID:307887-1759060800-1759071600@starviewvineyards.com
SUMMARY:Interchangeable Paint Party
DESCRIPTION:This adorable interchangeable project has been a HUGE hit & the only thing that can make it any better….pairing it with wine! Join us for a day of DIY!\nThis project is 9×7 inches which makes it perfect for a desk\, shelf\, or a mantle. You even get to choose which interchangeable pieces you’d like.\nYou will be able to customize your project by picking your own paint/stain combinations to make your project a one-of-a-kind piece at the event.\n\nClick here to purchase your tickets!\nREGISTRATION CLOSES AT MIDNIGHT ON 9/21/2025 or when spots are filled.
URL:https://starviewvineyards.com/event/interchangeable-paint-party-2/
LOCATION:StarView Vineyards\, 5100 Wing Hill Road\, Cobden\, IL\, 62920\, United States
CATEGORIES:Art
END:VEVENT
END:VCALENDAR