BEGIN:VCALENDAR
VERSION:2.0
PRODID:-//StarView Vineyards - ECPv6.15.20//NONSGML v1.0//EN
CALSCALE:GREGORIAN
METHOD:PUBLISH
X-WR-CALNAME:StarView Vineyards
X-ORIGINAL-URL:https://starviewvineyards.com
X-WR-CALDESC:Events for StarView Vineyards
REFRESH-INTERVAL;VALUE=DURATION:PT1H
X-Robots-Tag:noindex
X-PUBLISHED-TTL:PT1H
BEGIN:VTIMEZONE
TZID:America/Chicago
BEGIN:DAYLIGHT
TZOFFSETFROM:-0600
TZOFFSETTO:-0500
TZNAME:CDT
DTSTART:20240310T080000
END:DAYLIGHT
BEGIN:STANDARD
TZOFFSETFROM:-0500
TZOFFSETTO:-0600
TZNAME:CST
DTSTART:20241103T070000
END:STANDARD
BEGIN:DAYLIGHT
TZOFFSETFROM:-0600
TZOFFSETTO:-0500
TZNAME:CDT
DTSTART:20250309T080000
END:DAYLIGHT
BEGIN:STANDARD
TZOFFSETFROM:-0500
TZOFFSETTO:-0600
TZNAME:CST
DTSTART:20251102T070000
END:STANDARD
BEGIN:DAYLIGHT
TZOFFSETFROM:-0600
TZOFFSETTO:-0500
TZNAME:CDT
DTSTART:20260308T080000
END:DAYLIGHT
BEGIN:STANDARD
TZOFFSETFROM:-0500
TZOFFSETTO:-0600
TZNAME:CST
DTSTART:20261101T070000
END:STANDARD
BEGIN:DAYLIGHT
TZOFFSETFROM:-0600
TZOFFSETTO:-0500
TZNAME:CDT
DTSTART:20270314T080000
END:DAYLIGHT
BEGIN:STANDARD
TZOFFSETFROM:-0500
TZOFFSETTO:-0600
TZNAME:CST
DTSTART:20271107T070000
END:STANDARD
END:VTIMEZONE
BEGIN:VEVENT
DTSTART;TZID=America/Chicago:20251122T110000
DTEND;TZID=America/Chicago:20251122T130000
DTSTAMP:20260423T182313
CREATED:20251008T181315Z
LAST-MODIFIED:20251008T181315Z
UID:307928-1763809200-1763816400@starviewvineyards.com
SUMMARY:Christmas Cookie Decorating Class
DESCRIPTION:Join us for a FUN and FESTIVE Christmas Cookie Decorating Class with Teresa’s Sweet Treats of Southern Illinois! Learn some decorating secrets that will amaze your family and friends. In this class you will learn: wet-on-wet techniques\, precision piping\, perfecting outlines\, flooding techniques\, 3D designs and royal icing consistencies. All supplies will be included in the class fee. Class is suitable for ages 9+ \nRegister here
URL:https://starviewvineyards.com/event/christmas-cookie-decorating-class/
LOCATION:StarView Vineyards\, 5100 Wing Hill Road\, Cobden\, IL\, 62920\, United States
CATEGORIES:Art
END:VEVENT
BEGIN:VEVENT
DTSTART;TZID=America/Chicago:20251130T123000
DTEND;TZID=America/Chicago:20251130T143000
DTSTAMP:20260423T182313
CREATED:20251108T195910Z
LAST-MODIFIED:20251108T195910Z
UID:308038-1764505800-1764513000@starviewvineyards.com
SUMMARY:Wine\, Pine & Shine: A Living Tree Workshop
DESCRIPTION:Wine\, Pine & Shine: A Living Tree Workshop\nHosted by Glass Gardens by Stacey StarView Vineyards – Cobden\, IL Sunday\, November 30th 12:30 PM – 2:30 PM $40 per person + tax\nJoin us for a cozy\, festive afternoon at StarView Vineyards as we plant and decorate living Christmas trees—the perfect way to kick off the holiday season while being kind to the Earth.\nEach guest will choose between: A Hardy Juniper “Forever Tree” – a living tree you can plant outdoors after the holidays. A Norfolk Pine “Forever Tree” – a beautiful non-hardy houseplant you can decorate year after year.\nThis hands-on workshop is a fun and meaningful alternative to cutting down traditional Christmas trees. By choosing a forever tree\, you’re helping support a more environmentally friendly holiday tradition—and creating something you can enjoy for seasons to come.\nWe’ll pot your chosen tree together\, decorate it with festive touches\, and send you home with a living reminder of the holidays.\n Grab a glass of wine\, get creative\, and let your holiday spirit grow!Spots are limited. Register today!
URL:https://starviewvineyards.com/event/wine-pine-shine-a-living-tree-workshop/
LOCATION:StarView Vineyards\, 5100 Wing Hill Road\, Cobden\, IL\, 62920\, United States
CATEGORIES:Art
END:VEVENT
BEGIN:VEVENT
DTSTART;TZID=America/Chicago:20251214T130000
DTEND;TZID=America/Chicago:20251214T150000
DTSTAMP:20260423T182313
CREATED:20250319T191032Z
LAST-MODIFIED:20250319T194734Z
UID:307650-1765717200-1765724400@starviewvineyards.com
SUMMARY:Paint & Sip
DESCRIPTION:Save the date! Project Human X will be onsite for a wine glass painting class. More details coming soon!
URL:https://starviewvineyards.com/event/paint-sip-4/
LOCATION:StarView Vineyards\, 5100 Wing Hill Road\, Cobden\, IL\, 62920\, United States
CATEGORIES:Art
END:VEVENT
BEGIN:VEVENT
DTSTART;TZID=America/Chicago:20260110T113000
DTEND;TZID=America/Chicago:20260110T133000
DTSTAMP:20260423T182313
CREATED:20251220T173850Z
LAST-MODIFIED:20251220T174257Z
UID:308144-1768044600-1768051800@starviewvineyards.com
SUMMARY:“Winter Wonderland” Cookie Decorating Class
DESCRIPTION:Join Teresa’s Sweet Treats of So. IL for a “Winter Wonderland” Cookie Decorating Class on (Saturday) 01/10/26 from 11:30-1:30. All supplies included to decorate 6-8 cookies. Decorating techniques demonstrated will include wet-on-wet techniques\, precision piping\, perfecting outlines\, flooding\, 3D designs\, sectional flooding and Royal icing consistencies.  \nNO refunds or transfers. If unable to attend cookie kits may be picked up during class time. Ticket per person cost $45. Click here purchase tickets.
URL:https://starviewvineyards.com/event/winter-wonderland-cookie-decorating-class/
LOCATION:StarView Vineyards\, 5100 Wing Hill Road\, Cobden\, IL\, 62920\, United States
CATEGORIES:Art
ATTACH;FMTTYPE=image/jpeg:https://starviewvineyards.com/wp-content/uploads/2025/12/1.jpg
END:VEVENT
BEGIN:VEVENT
DTSTART;TZID=America/Chicago:20260118T130000
DTEND;TZID=America/Chicago:20260118T153000
DTSTAMP:20260423T182313
CREATED:20251230T232759Z
LAST-MODIFIED:20251230T232759Z
UID:308165-1768741200-1768750200@starviewvineyards.com
SUMMARY:Wines\, Vines & Hanging Designs
DESCRIPTION:Join us for a relaxing and creative planting workshop with Glass Gardens by Stacey.From 1:00–3:30 PM\, we’ll be planting two stunning glass globes\, each with its own plant and decorations. And you’ll also receive a macramé plant hanger to display your new living art at home. This workshop is perfect for plant lovers\, friends’ day out\, or anyone who wants to get creative and unwind in a cozy\, joyful atmosphere.\nWhile you create\, feel free to enjoy our delicious food and drinks—sip\, snack\, laugh\, and be merry while you build something beautiful!\nCome make memories\, art\, and take home something you’ll love. We can’t wait to grow with you! \n\nPurchase tickets here!
URL:https://starviewvineyards.com/event/wines-vines-hanging-designs/
LOCATION:StarView Vineyards\, 5100 Wing Hill Road\, Cobden\, IL\, 62920\, United States
CATEGORIES:Art
END:VEVENT
BEGIN:VEVENT
DTSTART;TZID=America/Chicago:20260214T120000
DTEND;TZID=America/Chicago:20260214T140000
DTSTAMP:20260423T182313
CREATED:20260107T181721Z
LAST-MODIFIED:20260107T182928Z
UID:308173-1771070400-1771077600@starviewvineyards.com
SUMMARY:Uncorked & Untamed: A Nature Board Workshop
DESCRIPTION:Come create with Glass Gardens by Stacey! Uncorked & Untamed: A Nature Board Workshop is a Valentine’s Day gathering for the wild-hearted. Sip wine while creating a one-of-a-kind nature board using bones\, moss\, sticks\, stones\, ceramics\, and foraged treasures—no roses\, no rules\, no clichés. Come with a lover\, a friend\, or your feral creative self and spend the afternoon crafting something beautifully strange\, a little dark\, and completely untamed. \nPurchase your tickets today! Seats are limited.
URL:https://starviewvineyards.com/event/uncorked-untamed-a-nature-board-workshop/
LOCATION:StarView Vineyards\, 5100 Wing Hill Road\, Cobden\, IL\, 62920\, United States
CATEGORIES:Art
ATTACH;FMTTYPE=image/jpeg:https://starviewvineyards.com/wp-content/uploads/2026/01/Feb14-1.jpg
END:VEVENT
BEGIN:VEVENT
DTSTART;TZID=America/Chicago:20260308T120000
DTEND;TZID=America/Chicago:20260308T140000
DTSTAMP:20260423T182313
CREATED:20260115T181124Z
LAST-MODIFIED:20260115T182653Z
UID:308183-1772971200-1772978400@starviewvineyards.com
SUMMARY:Glass Garden Party
DESCRIPTION:Join us for a hands-on Glass Gardens workshop with Glass Gardens by Stacey where creativity meets nature. During this guided experience\, you’ll build your own glass globe planter using three plants of your choice—succulent or tropical—along with curated stones and decorative elements. All materials are provided\, so you can sip wine\, relax\, and create a living piece of art to take home. This workshop is perfect for plant lovers of all skill levels!\nPurchase your tickets today!
URL:https://starviewvineyards.com/event/glass-garden-party-2/
LOCATION:StarView Vineyards\, 5100 Wing Hill Road\, Cobden\, IL\, 62920\, United States
CATEGORIES:Art
ATTACH;FMTTYPE=image/jpeg:https://starviewvineyards.com/wp-content/uploads/2026/01/March8.jpg
END:VEVENT
BEGIN:VEVENT
DTSTART;TZID=America/Chicago:20260322T120000
DTEND;TZID=America/Chicago:20260322T140000
DTSTAMP:20260423T182313
CREATED:20260120T164945Z
LAST-MODIFIED:20260120T164945Z
UID:308192-1774180800-1774188000@starviewvineyards.com
SUMMARY:Killer Terrariums Workshop
DESCRIPTION:Killer Terrariums WorkshopBuild a beautiful little nightmare…\nJoin Glass Gardens by Stacey for a hands-on workshop where we create sealed glass terrariums filled with carnivorous plants that love to eat. You’ll design a spooky miniature world using Venus flytraps\, pitcher plants\, and other deadly delights.\nAll supplies included. Wine available. Plants may bite.\nPurchase your tickets today!
URL:https://starviewvineyards.com/event/killer-terrariums-workshop/
LOCATION:StarView Vineyards\, 5100 Wing Hill Road\, Cobden\, IL\, 62920\, United States
CATEGORIES:Art
END:VEVENT
BEGIN:VEVENT
DTSTART;TZID=America/Chicago:20261004T120000
DTEND;TZID=America/Chicago:20261004T150000
DTSTAMP:20260423T182313
CREATED:20260115T183334Z
LAST-MODIFIED:20260115T183334Z
UID:308186-1791115200-1791126000@starviewvineyards.com
SUMMARY:Sip & Spell: A Witches Broom Workshop
DESCRIPTION:Step into the season of shadows and spellwork at Sip & Spell: Witch’s Broom Workshop\, a bewitching autumn gathering. As October settles in and the veil begins to thin\, you’re invited to sip wine\, slow down\, and craft your very own witch’s broom infused with intention\, creativity\, and a little magic.\nDuring this hands-on workshop\, you’ll decorate a scented witches broom using an abundant selection of dried flowers\, grass plumes\, moon decor\, ribbons\, dried mushrooms\, pinecones\, cinnamon sticks\, dried oranges\, and other nature-foraged treasures. Each broom becomes a unique talisman—perfect for Halloween décor\, seasonal rituals\, or simply bringing cozy\, witchy charm into your home.\nWine will be available for purchase throughout the event\, making it the perfect afternoon to gather with friends\, meet fellow autumn lovers\, and let your inner witch roam free.\nHosted by Glass Gardens by Stacey\, Sip & Spell is more than a workshop—it’s a celebration of nature\, creativity\, and the magic of the season. Come as you are\, leave with a broom that tells your story\, and a heart full of October magic.\nTickets are $65 per person\, come alone or bring a friend!
URL:https://starviewvineyards.com/event/sip-spell-a-witches-broom-workshop/
LOCATION:StarView Vineyards\, 5100 Wing Hill Road\, Cobden\, IL\, 62920\, United States
CATEGORIES:Art
ATTACH;FMTTYPE=image/jpeg:https://starviewvineyards.com/wp-content/uploads/2026/01/Oct4.jpg
END:VEVENT
END:VCALENDAR