BEGIN:VCALENDAR
VERSION:2.0
PRODID:-//StarView Vineyards - ECPv6.15.20//NONSGML v1.0//EN
CALSCALE:GREGORIAN
METHOD:PUBLISH
X-WR-CALNAME:StarView Vineyards
X-ORIGINAL-URL:https://starviewvineyards.com
X-WR-CALDESC:Events for StarView Vineyards
REFRESH-INTERVAL;VALUE=DURATION:PT1H
X-Robots-Tag:noindex
X-PUBLISHED-TTL:PT1H
BEGIN:VTIMEZONE
TZID:America/Chicago
BEGIN:DAYLIGHT
TZOFFSETFROM:-0600
TZOFFSETTO:-0500
TZNAME:CDT
DTSTART:20240310T080000
END:DAYLIGHT
BEGIN:STANDARD
TZOFFSETFROM:-0500
TZOFFSETTO:-0600
TZNAME:CST
DTSTART:20241103T070000
END:STANDARD
BEGIN:DAYLIGHT
TZOFFSETFROM:-0600
TZOFFSETTO:-0500
TZNAME:CDT
DTSTART:20250309T080000
END:DAYLIGHT
BEGIN:STANDARD
TZOFFSETFROM:-0500
TZOFFSETTO:-0600
TZNAME:CST
DTSTART:20251102T070000
END:STANDARD
BEGIN:DAYLIGHT
TZOFFSETFROM:-0600
TZOFFSETTO:-0500
TZNAME:CDT
DTSTART:20260308T080000
END:DAYLIGHT
BEGIN:STANDARD
TZOFFSETFROM:-0500
TZOFFSETTO:-0600
TZNAME:CST
DTSTART:20261101T070000
END:STANDARD
END:VTIMEZONE
BEGIN:VEVENT
DTSTART;TZID=America/Chicago:20250201T160000
DTEND;TZID=America/Chicago:20250201T190000
DTSTAMP:20260421T041758
CREATED:20241219T191444Z
LAST-MODIFIED:20241219T191444Z
UID:34086-1738425600-1738436400@starviewvineyards.com
SUMMARY:Regina Coley
DESCRIPTION:Join us for 3 hours of live music. Grab a bite to eat and enjoy some of our award-winning wines. Table reservations are accepted for Wine Club members.
URL:https://starviewvineyards.com/event/regina-coley/
LOCATION:StarView Vineyards\, 5100 Wing Hill Road\, Cobden\, IL\, 62920\, United States
CATEGORIES:Music
END:VEVENT
BEGIN:VEVENT
DTSTART;TZID=America/Chicago:20250202T150000
DTEND;TZID=America/Chicago:20250202T180000
DTSTAMP:20260421T041758
CREATED:20250115T190310Z
LAST-MODIFIED:20250115T190408Z
UID:307528-1738508400-1738519200@starviewvineyards.com
SUMMARY:Larry Dillard
DESCRIPTION:Join us for 3 hours of live music. Grab a bite to eat and enjoy some of our award-winning wines. Table reservations accepted for Wine Club members.
URL:https://starviewvineyards.com/event/larry-dillard/
LOCATION:StarView Vineyards\, 5100 Wing Hill Road\, Cobden\, IL\, 62920\, United States
CATEGORIES:Music
END:VEVENT
BEGIN:VEVENT
DTSTART;TZID=America/Chicago:20250208T160000
DTEND;TZID=America/Chicago:20250208T190000
DTSTAMP:20260421T041758
CREATED:20241219T191526Z
LAST-MODIFIED:20241219T191526Z
UID:34088-1739030400-1739041200@starviewvineyards.com
SUMMARY:Marshall Anderson
DESCRIPTION:Join us for 3 hours of live music. Grab a bite to eat and enjoy some of our award-winning wines. Table reservations are accepted for Wine Club members.
URL:https://starviewvineyards.com/event/marshall-anderson-2/
LOCATION:StarView Vineyards\, 5100 Wing Hill Road\, Cobden\, IL\, 62920\, United States
CATEGORIES:Music
END:VEVENT
BEGIN:VEVENT
DTSTART;TZID=America/Chicago:20250215T160000
DTEND;TZID=America/Chicago:20250215T190000
DTSTAMP:20260421T041758
CREATED:20250115T190505Z
LAST-MODIFIED:20250115T190505Z
UID:307530-1739635200-1739646000@starviewvineyards.com
SUMMARY:Sarah Lannom Duo
DESCRIPTION:Join us for 3 hours of live music. Grab a bite to eat and enjoy some of our award-winning wines. Table reservations accepted for Wine Club members.
URL:https://starviewvineyards.com/event/sarah-lannom-duo/
LOCATION:StarView Vineyards\, 5100 Wing Hill Road\, Cobden\, IL\, 62920\, United States
CATEGORIES:Music
END:VEVENT
BEGIN:VEVENT
DTSTART;TZID=America/Chicago:20250216T150000
DTEND;TZID=America/Chicago:20250216T180000
DTSTAMP:20260421T041758
CREATED:20250115T190633Z
LAST-MODIFIED:20250115T190633Z
UID:307532-1739718000-1739728800@starviewvineyards.com
SUMMARY:Ol Moose
DESCRIPTION:Join us for 3 hours of live music. Grab a bite to eat and enjoy some of our award-winning wines. Table reservations accepted for Wine Club members.
URL:https://starviewvineyards.com/event/ol-moose-2/
LOCATION:StarView Vineyards\, 5100 Wing Hill Road\, Cobden\, IL\, 62920\, United States
CATEGORIES:Music
END:VEVENT
BEGIN:VEVENT
DTSTART;TZID=America/Chicago:20250222T160000
DTEND;TZID=America/Chicago:20250222T190000
DTSTAMP:20260421T041758
CREATED:20250115T190654Z
LAST-MODIFIED:20250115T190654Z
UID:307534-1740240000-1740250800@starviewvineyards.com
SUMMARY:Jonny Coller
DESCRIPTION:Join us for 3 hours of live music. Grab a bite to eat and enjoy some of our award-winning wines. Table reservations accepted for Wine Club members.
URL:https://starviewvineyards.com/event/jonny-coller/
LOCATION:StarView Vineyards\, 5100 Wing Hill Road\, Cobden\, IL\, 62920\, United States
CATEGORIES:Music
END:VEVENT
BEGIN:VEVENT
DTSTART;TZID=America/Chicago:20250223T150000
DTEND;TZID=America/Chicago:20250223T180000
DTSTAMP:20260421T041758
CREATED:20250115T191322Z
LAST-MODIFIED:20250115T191322Z
UID:307536-1740322800-1740333600@starviewvineyards.com
SUMMARY:Carr & Tejada
DESCRIPTION:Join us for 3 hours of live music. Grab a bite to eat and enjoy some of our award-winning wines. Table reservations accepted for Wine Club members.
URL:https://starviewvineyards.com/event/carr-tejada/
LOCATION:StarView Vineyards\, 5100 Wing Hill Road\, Cobden\, IL\, 62920\, United States
CATEGORIES:Music
END:VEVENT
END:VCALENDAR