BEGIN:VCALENDAR
VERSION:2.0
PRODID:-//StarView Vineyards - ECPv6.15.20//NONSGML v1.0//EN
CALSCALE:GREGORIAN
METHOD:PUBLISH
X-WR-CALNAME:StarView Vineyards
X-ORIGINAL-URL:https://starviewvineyards.com
X-WR-CALDESC:Events for StarView Vineyards
REFRESH-INTERVAL;VALUE=DURATION:PT1H
X-Robots-Tag:noindex
X-PUBLISHED-TTL:PT1H
BEGIN:VTIMEZONE
TZID:America/Chicago
BEGIN:DAYLIGHT
TZOFFSETFROM:-0600
TZOFFSETTO:-0500
TZNAME:CDT
DTSTART:20240310T080000
END:DAYLIGHT
BEGIN:STANDARD
TZOFFSETFROM:-0500
TZOFFSETTO:-0600
TZNAME:CST
DTSTART:20241103T070000
END:STANDARD
BEGIN:DAYLIGHT
TZOFFSETFROM:-0600
TZOFFSETTO:-0500
TZNAME:CDT
DTSTART:20250309T080000
END:DAYLIGHT
BEGIN:STANDARD
TZOFFSETFROM:-0500
TZOFFSETTO:-0600
TZNAME:CST
DTSTART:20251102T070000
END:STANDARD
BEGIN:DAYLIGHT
TZOFFSETFROM:-0600
TZOFFSETTO:-0500
TZNAME:CDT
DTSTART:20260308T080000
END:DAYLIGHT
BEGIN:STANDARD
TZOFFSETFROM:-0500
TZOFFSETTO:-0600
TZNAME:CST
DTSTART:20261101T070000
END:STANDARD
END:VTIMEZONE
BEGIN:VEVENT
DTSTART;TZID=America/Chicago:20250419T110000
DTEND;TZID=America/Chicago:20250419T200000
DTSTAMP:20260421T030608
CREATED:20250319T184301Z
LAST-MODIFIED:20250319T184301Z
UID:307630-1745060400-1745092800@starviewvineyards.com
SUMMARY:Adult Easter Egg Hunt
DESCRIPTION:We can’t let the kids have all the fun! Join us for our 8th annual Adult Easter Egg Hunt! Enjoy a tasting flight and receive a ticket to find an egg in the yard. Every egg is a winner.. will you get the grand prize!?\n*LIVE MUSIC ALL DAYMax Dalton 1-4pmHeath Holloman 5-8pm\nIt wouldn’t be an egg hunt without something sweet! Teresa’s Sweet Treats will be onsite starting at 11am with her Easter/Spring PYO (paint your own) cookies. Paint them here or take them home with you.
URL:https://starviewvineyards.com/event/adult-easter-egg-hunt/
LOCATION:StarView Vineyards\, 5100 Wing Hill Road\, Cobden\, IL\, 62920\, United States
CATEGORIES:Music
END:VEVENT
BEGIN:VEVENT
DTSTART;TZID=America/Chicago:20250419T130000
DTEND;TZID=America/Chicago:20250419T160000
DTSTAMP:20260421T030608
CREATED:20250212T231831Z
LAST-MODIFIED:20250212T231831Z
UID:307614-1745067600-1745078400@starviewvineyards.com
SUMMARY:Max Dalton
DESCRIPTION:**DOUBLE HEADER SATURDAY**\nJoin us for 3 hours of live music. Grab a bite to eat and enjoy some of our award-winning wines. Table reservations accepted for Wine Club members.
URL:https://starviewvineyards.com/event/max-dalton-2/
LOCATION:StarView Vineyards\, 5100 Wing Hill Road\, Cobden\, IL\, 62920\, United States
CATEGORIES:Music
END:VEVENT
BEGIN:VEVENT
DTSTART;TZID=America/Chicago:20250419T170000
DTEND;TZID=America/Chicago:20250419T200000
DTSTAMP:20260421T030608
CREATED:20250212T231900Z
LAST-MODIFIED:20250212T231900Z
UID:307616-1745082000-1745092800@starviewvineyards.com
SUMMARY:Heath Holloman
DESCRIPTION:**DOUBLE HEADER SATURDAY**\nJoin us for 3 hours of live music. Grab a bite to eat and enjoy some of our award-winning wines. Table reservations accepted for Wine Club members.
URL:https://starviewvineyards.com/event/heath-holloman/
LOCATION:StarView Vineyards\, 5100 Wing Hill Road\, Cobden\, IL\, 62920\, United States
CATEGORIES:Music
END:VEVENT
END:VCALENDAR