BEGIN:VCALENDAR
VERSION:2.0
PRODID:-//StarView Vineyards - ECPv6.15.20//NONSGML v1.0//EN
CALSCALE:GREGORIAN
METHOD:PUBLISH
X-WR-CALNAME:StarView Vineyards
X-ORIGINAL-URL:https://starviewvineyards.com
X-WR-CALDESC:Events for StarView Vineyards
REFRESH-INTERVAL;VALUE=DURATION:PT1H
X-Robots-Tag:noindex
X-PUBLISHED-TTL:PT1H
BEGIN:VTIMEZONE
TZID:America/Chicago
BEGIN:DAYLIGHT
TZOFFSETFROM:-0600
TZOFFSETTO:-0500
TZNAME:CDT
DTSTART:20240310T080000
END:DAYLIGHT
BEGIN:STANDARD
TZOFFSETFROM:-0500
TZOFFSETTO:-0600
TZNAME:CST
DTSTART:20241103T070000
END:STANDARD
BEGIN:DAYLIGHT
TZOFFSETFROM:-0600
TZOFFSETTO:-0500
TZNAME:CDT
DTSTART:20250309T080000
END:DAYLIGHT
BEGIN:STANDARD
TZOFFSETFROM:-0500
TZOFFSETTO:-0600
TZNAME:CST
DTSTART:20251102T070000
END:STANDARD
BEGIN:DAYLIGHT
TZOFFSETFROM:-0600
TZOFFSETTO:-0500
TZNAME:CDT
DTSTART:20260308T080000
END:DAYLIGHT
BEGIN:STANDARD
TZOFFSETFROM:-0500
TZOFFSETTO:-0600
TZNAME:CST
DTSTART:20261101T070000
END:STANDARD
END:VTIMEZONE
BEGIN:VEVENT
DTSTART;TZID=America/Chicago:20251102T120000
DTEND;TZID=America/Chicago:20251102T170000
DTSTAMP:20260423T055738
CREATED:20251009T231828Z
LAST-MODIFIED:20251101T165356Z
UID:307944-1762084800-1762102800@starviewvineyards.com
SUMMARY:Alpacas & Wine
DESCRIPTION:Wine\, sunshine\, and… alpacas!?  Join us for a relaxing day where you can sip your favorite wines and meet our adorable\, fluffy neighbors from Rolling Oak Alpaca Ranch! Bring your friends\, grab a glass\, and snap some unforgettable photos with the alpacas.The alpaca ranch along with other vendors will be set up with their amazing items; it’s not too early to start your holiday shopping! Come early and grab a bite to eat and a glass of wine and enjoy the afternoon with us!Vendors include:Rolling Oak Alpaca RanchBonded Permanent JewelryTeresa’s Sweet Treats of Southern IllinoisJohnson Avenue \nVisit the Facebook event to check out the discussion page and for links to the vendors!
URL:https://starviewvineyards.com/event/alpacas-wine/
LOCATION:StarView Vineyards\, 5100 Wing Hill Road\, Cobden\, IL\, 62920\, United States
CATEGORIES:Party
END:VEVENT
END:VCALENDAR